BEGIN:VCALENDAR
VERSION:2.0
PRODID:-//wp-events-plugin.com//7.2.3.1//EN
TZID:Asia/Tokyo
X-WR-TIMEZONE:Asia/Tokyo
BEGIN:VEVENT
UID:27@metromonk.tokyo
DTSTART;TZID=Asia/Tokyo:20241110T131000
DTEND;TZID=Asia/Tokyo:20241110T144000
DTSTAMP:20241220T160937Z
URL:https://metromonk.tokyo/tamanaka/events/vegan-2/
SUMMARY:【無料】テーマ読書会「ヴィーガンについて」 #2
DESCRIPTION:今回のヴィーガンに関するテーマ読書会は、課
 題本を設定しました！\n課題本は、『ヴィーガン探訪 
 肉も魚もハチミツも食べない生き方』(森 映子)です。\n
 どなたでも参加できます！\n「無料」なのでお気軽にお
 申し込みください。\n【詳細】\n時間：13:10~14:40\n集合場
 所：多摩市立中央図書館２F「活動室３」\n（多摩セン
 ター駅 徒歩7分）\n参加費：無料\n※一読していただけ
 ていれば、課題本はご持参いただかなくても構いませ
 ん。\n※同日開催の「サブカルを語る読書会」とは独立
 した会となっております。両方参加、片方だけの参加
 どちらも大歓迎です！\n【流れ】\n①自己紹介、アイス
 ブレイク\n②本の紹介、発表者への質疑\n③まとめ、今
 回の読書会で持ち帰りたいこと\n【企画・主催】\n・野
 中\n1993年生まれ（31歳）\n数年前に学生の方々が主催す
 る動物倫理の勉強会を通じて、ヴィーガンについて興
 味を持ちました。読書の他、旅行や将棋が趣味です。
 今月はマラソン大会に出場予定です。今回の読書会で
 さらにヴィーガンについて様々な意見を知ることがで
 きればと思って企画をしました。\n【注意事項】\n宗教
 やビジネスなどの勧誘、他の参加者の迷惑となる行為
 は禁止します。あらかじめご了承ください。
ATTACH;FMTTYPE=image/jpeg:https://metromonk.tokyo/tamanaka/wp-content/uplo
 ads/2024/10/読書会告知.001-2.jpeg
CATEGORIES:一般
LOCATION:多摩市立中央図書館2F「活動室3」(多摩センター
 駅 徒歩７分)\, 東京都\, 多摩市落合２－３５\, 日本
X-APPLE-STRUCTURED-LOCATION;VALUE=URI;X-ADDRESS=東京都\, 多摩市落合
 ２－３５\, 日本;X-APPLE-RADIUS=100;X-TITLE=多摩市立中央図書
 館2F「活動室3」(多摩センター駅 徒歩７分):geo:0,0
END:VEVENT
BEGIN:VTIMEZONE
TZID:Asia/Tokyo
X-LIC-LOCATION:Asia/Tokyo
BEGIN:STANDARD
DTSTART:20231111T131000
TZOFFSETFROM:+0900
TZOFFSETTO:+0900
TZNAME:JST
END:STANDARD
END:VTIMEZONE
END:VCALENDAR